BEGIN:VCALENDAR
VERSION:2.0
CALSCALE:GREGORIAN
PRODID:UnionActive
BEGIN:VEVENT
UID:5537960@ibew2.org
SUMMARY:Columbia Unit Meeting
DESCRIPTION:Contact:  \nLink for more information: http://ibew2.org/index.cfm?zone=/unionactive/view_calendar.cfm&calendarID=5537960&thisdate=07/24/2012&useCalSection=main
LOCATION:Best Western
Hwy 24 & 63
Moberly, MO
URL:http://ibew2.org/index.cfm?zone=/unionactive/view_calendar.cfm&calendarID=5537960&thisdate=07/24/2012&useCalSection=main
DTSTART:20120724T233000Z
DTEND:20120725T003000Z
DTSTAMP:20240229T144711
TRIGGER:-PT60M
END:VEVENT
END:VCALENDAR
