BEGIN:VCALENDAR
VERSION:2.0
CALSCALE:GREGORIAN
PRODID:UnionActive
BEGIN:VEVENT
UID:5537958@ibew2.org
SUMMARY:Chillicothe Unit Meeting
DESCRIPTION:Contact:  \nLink for more information: http://ibew2.org/index.cfm?zone=/unionactive/view_calendar.cfm&calendarID=5537958&thisdate=09/20/2012&useCalSection=main
LOCATION:Royal Inn Pizza
750 South Washington
Chillicothe, MO 64601
URL:http://ibew2.org/index.cfm?zone=/unionactive/view_calendar.cfm&calendarID=5537958&thisdate=09/20/2012&useCalSection=main
DTSTART:20120920T233000Z
DTEND:20120921T003000Z
DTSTAMP:20240229T144732
TRIGGER:-PT60M
END:VEVENT
END:VCALENDAR
