BEGIN:VCALENDAR
VERSION:2.0
CALSCALE:GREGORIAN
PRODID:UnionActive
BEGIN:VEVENT
UID:5537955@ibew2.org
SUMMARY:Bourbon Unit Meeting
DESCRIPTION:Contact:  \nLink for more information: http://ibew2.org/index.cfm?zone=/unionactive/view_calendar.cfm&calendarID=5537955&thisdate=10/16/2012&useCalSection=main
LOCATION:Cooperative Service Building
Bourbon, MO
URL:http://ibew2.org/index.cfm?zone=/unionactive/view_calendar.cfm&calendarID=5537955&thisdate=10/16/2012&useCalSection=main
DTSTART:20121016T213000Z
DTEND:20121016T223000Z
DTSTAMP:20240229T144708
TRIGGER:-PT60M
END:VEVENT
END:VCALENDAR
