BEGIN:VCALENDAR
VERSION:2.0
CALSCALE:GREGORIAN
PRODID:UnionActive
BEGIN:VEVENT
UID:12331904@ibew2.org
SUMMARY:Cristmas observed
DESCRIPTION:Contact:  \nLink for more information: http://ibew2.org/index.cfm?zone=/unionactive/view_calendar.cfm&calendarID=12331904&thisdate=12/26/2022&useCalSection=main
LOCATION:Both St Louis and Jefferson City offices will be closed to observe Christmas Day
URL:http://ibew2.org/index.cfm?zone=/unionactive/view_calendar.cfm&calendarID=12331904&thisdate=12/26/2022&useCalSection=main
DTSTART:20221226T130000Z
DTEND:20221226T223000Z
DTSTAMP:20240229T142641
TRIGGER:-PT60M
END:VEVENT
END:VCALENDAR
