BEGIN:VCALENDAR
VERSION:2.0
CALSCALE:GREGORIAN
PRODID:UnionActive
BEGIN:VEVENT
UID:12330149@ibew2.org
SUMMARY:Office Closed - Thanksgiving
DESCRIPTION:Contact:  \nLink for more information: http://ibew2.org/index.cfm?zone=/unionactive/view_calendar.cfm&calendarID=12330149&thisdate=11/25/2022&useCalSection=main
LOCATION:
URL:http://ibew2.org/index.cfm?zone=/unionactive/view_calendar.cfm&calendarID=12330149&thisdate=11/25/2022&useCalSection=main
DTSTART:20221125T130000Z
DTEND:20221125T223000Z
DTSTAMP:20240229T142617
TRIGGER:-PT60M
END:VEVENT
END:VCALENDAR
