BEGIN:VCALENDAR
VERSION:2.0
CALSCALE:GREGORIAN
PRODID:UnionActive
BEGIN:VEVENT
UID:12330148@ibew2.org
SUMMARY:Office Closed - Thanksgiving
DESCRIPTION:Contact: St Louis and Jefferson City offices closed 11/24 and 11/25 for Thanksgiving \nLink for more information: http://ibew2.org/index.cfm?zone=/unionactive/view_calendar.cfm&calendarID=12330148&thisdate=11/24/2022&useCalSection=main
LOCATION:
URL:http://ibew2.org/index.cfm?zone=/unionactive/view_calendar.cfm&calendarID=12330148&thisdate=11/24/2022&useCalSection=main
DTSTART:20221124T130000Z
DTEND:20221127T223000Z
DTSTAMP:20240229T142647
TRIGGER:-PT60M
END:VEVENT
END:VCALENDAR
