BEGIN:VCALENDAR
VERSION:2.0
CALSCALE:GREGORIAN
PRODID:UnionActive
BEGIN:VEVENT
UID:11869075@ibew2.org
SUMMARY:Macon Electric Cooperative Unit Meeting
DESCRIPTION:Contact:  \nLink for more information: http://ibew2.org/index.cfm?zone=/unionactive/view_calendar.cfm&calendarID=11869075&thisdate=09/20/2044&useCalSection=main
LOCATION:
URL:http://ibew2.org/index.cfm?zone=/unionactive/view_calendar.cfm&calendarID=11869075&thisdate=09/20/2044&useCalSection=main
DTSTART:20440920T203000Z
DTEND:20440920T213000Z
DTSTAMP:20240229T150245
TRIGGER:-PT60M
END:VEVENT
END:VCALENDAR
