BEGIN:VCALENDAR
VERSION:2.0
CALSCALE:GREGORIAN
PRODID:UnionActive
BEGIN:VEVENT
UID:11869072@ibew2.org
SUMMARY:Macon Electric Cooperative Unit Meeting
DESCRIPTION:Contact:  \nLink for more information: http://ibew2.org/index.cfm?zone=/unionactive/view_calendar.cfm&calendarID=11869072&thisdate=03/15/2044&useCalSection=main
LOCATION:
URL:http://ibew2.org/index.cfm?zone=/unionactive/view_calendar.cfm&calendarID=11869072&thisdate=03/15/2044&useCalSection=main
DTSTART:20440315T203000Z
DTEND:20440315T213000Z
DTSTAMP:20240229T150331
TRIGGER:-PT60M
END:VEVENT
END:VCALENDAR
