BEGIN:VCALENDAR
VERSION:2.0
CALSCALE:GREGORIAN
PRODID:UnionActive
BEGIN:VEVENT
UID:11869068@ibew2.org
SUMMARY:Macon Electric Cooperative Unit Meeting
DESCRIPTION:Contact:  \nLink for more information: http://ibew2.org/index.cfm?zone=/unionactive/view_calendar.cfm&calendarID=11869068&thisdate=07/21/2043&useCalSection=main
LOCATION:
URL:http://ibew2.org/index.cfm?zone=/unionactive/view_calendar.cfm&calendarID=11869068&thisdate=07/21/2043&useCalSection=main
DTSTART:20430721T203000Z
DTEND:20430721T213000Z
DTSTAMP:20240229T150135
TRIGGER:-PT60M
END:VEVENT
END:VCALENDAR
