BEGIN:VCALENDAR
VERSION:2.0
CALSCALE:GREGORIAN
PRODID:UnionActive
BEGIN:VEVENT
UID:11869066@ibew2.org
SUMMARY:Macon Electric Cooperative Unit Meeting
DESCRIPTION:Contact:  \nLink for more information: http://ibew2.org/index.cfm?zone=/unionactive/view_calendar.cfm&calendarID=11869066&thisdate=03/17/2043&useCalSection=main
LOCATION:
URL:http://ibew2.org/index.cfm?zone=/unionactive/view_calendar.cfm&calendarID=11869066&thisdate=03/17/2043&useCalSection=main
DTSTART:20430317T203000Z
DTEND:20430317T213000Z
DTSTAMP:20240229T150127
TRIGGER:-PT60M
END:VEVENT
END:VCALENDAR
