BEGIN:VCALENDAR
VERSION:2.0
CALSCALE:GREGORIAN
PRODID:UnionActive
BEGIN:VEVENT
UID:11869052@ibew2.org
SUMMARY:Macon Electric Cooperative Unit Meeting
DESCRIPTION:Contact:  \nLink for more information: http://ibew2.org/index.cfm?zone=/unionactive/view_calendar.cfm&calendarID=11869052&thisdate=11/20/2040&useCalSection=main
LOCATION:
URL:http://ibew2.org/index.cfm?zone=/unionactive/view_calendar.cfm&calendarID=11869052&thisdate=11/20/2040&useCalSection=main
DTSTART:20401120T213000Z
DTEND:20401120T223000Z
DTSTAMP:20240229T145532
TRIGGER:-PT60M
END:VEVENT
END:VCALENDAR
