BEGIN:VCALENDAR
VERSION:2.0
CALSCALE:GREGORIAN
PRODID:UnionActive
BEGIN:VEVENT
UID:11869050@ibew2.org
SUMMARY:Macon Electric Cooperative Unit Meeting
DESCRIPTION:Contact:  \nLink for more information: http://ibew2.org/index.cfm?zone=/unionactive/view_calendar.cfm&calendarID=11869050&thisdate=07/17/2040&useCalSection=main
LOCATION:
URL:http://ibew2.org/index.cfm?zone=/unionactive/view_calendar.cfm&calendarID=11869050&thisdate=07/17/2040&useCalSection=main
DTSTART:20400717T203000Z
DTEND:20400717T213000Z
DTSTAMP:20240229T145526
TRIGGER:-PT60M
END:VEVENT
END:VCALENDAR
