BEGIN:VCALENDAR
VERSION:2.0
CALSCALE:GREGORIAN
PRODID:UnionActive
BEGIN:VEVENT
UID:11869041@ibew2.org
SUMMARY:Macon Electric Cooperative Unit Meeting
DESCRIPTION:Contact:  \nLink for more information: http://ibew2.org/index.cfm?zone=/unionactive/view_calendar.cfm&calendarID=11869041&thisdate=01/18/2039&useCalSection=main
LOCATION:
URL:http://ibew2.org/index.cfm?zone=/unionactive/view_calendar.cfm&calendarID=11869041&thisdate=01/18/2039&useCalSection=main
DTSTART:20390118T213000Z
DTEND:20390118T223000Z
DTSTAMP:20240229T145408
TRIGGER:-PT60M
END:VEVENT
END:VCALENDAR
