BEGIN:VCALENDAR
VERSION:2.0
CALSCALE:GREGORIAN
PRODID:UnionActive
BEGIN:VEVENT
UID:11869032@ibew2.org
SUMMARY:Macon Electric Cooperative Unit Meeting
DESCRIPTION:Contact:  \nLink for more information: http://ibew2.org/index.cfm?zone=/unionactive/view_calendar.cfm&calendarID=11869032&thisdate=07/21/2037&useCalSection=main
LOCATION:
URL:http://ibew2.org/index.cfm?zone=/unionactive/view_calendar.cfm&calendarID=11869032&thisdate=07/21/2037&useCalSection=main
DTSTART:20370721T203000Z
DTEND:20370721T213000Z
DTSTAMP:20240229T145017
TRIGGER:-PT60M
END:VEVENT
END:VCALENDAR
