BEGIN:VCALENDAR
VERSION:2.0
CALSCALE:GREGORIAN
PRODID:UnionActive
BEGIN:VEVENT
UID:11869031@ibew2.org
SUMMARY:Macon Electric Cooperative Unit Meeting
DESCRIPTION:Contact:  \nLink for more information: http://ibew2.org/index.cfm?zone=/unionactive/view_calendar.cfm&calendarID=11869031&thisdate=05/19/2037&useCalSection=main
LOCATION:
URL:http://ibew2.org/index.cfm?zone=/unionactive/view_calendar.cfm&calendarID=11869031&thisdate=05/19/2037&useCalSection=main
DTSTART:20370519T203000Z
DTEND:20370519T213000Z
DTSTAMP:20240229T145011
TRIGGER:-PT60M
END:VEVENT
END:VCALENDAR
