BEGIN:VCALENDAR
VERSION:2.0
CALSCALE:GREGORIAN
PRODID:UnionActive
BEGIN:VEVENT
UID:11869027@ibew2.org
SUMMARY:Macon Electric Cooperative Unit Meeting
DESCRIPTION:Contact:  \nLink for more information: http://ibew2.org/index.cfm?zone=/unionactive/view_calendar.cfm&calendarID=11869027&thisdate=09/16/2036&useCalSection=main
LOCATION:
URL:http://ibew2.org/index.cfm?zone=/unionactive/view_calendar.cfm&calendarID=11869027&thisdate=09/16/2036&useCalSection=main
DTSTART:20360916T203000Z
DTEND:20360916T213000Z
DTSTAMP:20240229T144813
TRIGGER:-PT60M
END:VEVENT
END:VCALENDAR
