BEGIN:VCALENDAR
VERSION:2.0
CALSCALE:GREGORIAN
PRODID:UnionActive
BEGIN:VEVENT
UID:11869017@ibew2.org
SUMMARY:Macon Electric Cooperative Unit Meeting
DESCRIPTION:Contact:  \nLink for more information: http://ibew2.org/index.cfm?zone=/unionactive/view_calendar.cfm&calendarID=11869017&thisdate=01/16/2035&useCalSection=main
LOCATION:
URL:http://ibew2.org/index.cfm?zone=/unionactive/view_calendar.cfm&calendarID=11869017&thisdate=01/16/2035&useCalSection=main
DTSTART:20350116T213000Z
DTEND:20350116T223000Z
DTSTAMP:20240229T144518
TRIGGER:-PT60M
END:VEVENT
END:VCALENDAR
