BEGIN:VCALENDAR
VERSION:2.0
CALSCALE:GREGORIAN
PRODID:UnionActive
BEGIN:VEVENT
UID:11869016@ibew2.org
SUMMARY:Macon Electric Cooperative Unit Meeting
DESCRIPTION:Contact:  \nLink for more information: http://ibew2.org/index.cfm?zone=/unionactive/view_calendar.cfm&calendarID=11869016&thisdate=11/21/2034&useCalSection=main
LOCATION:
URL:http://ibew2.org/index.cfm?zone=/unionactive/view_calendar.cfm&calendarID=11869016&thisdate=11/21/2034&useCalSection=main
DTSTART:20341121T213000Z
DTEND:20341121T223000Z
DTSTAMP:20240229T144230
TRIGGER:-PT60M
END:VEVENT
END:VCALENDAR
