BEGIN:VCALENDAR
VERSION:2.0
CALSCALE:GREGORIAN
PRODID:UnionActive
BEGIN:VEVENT
UID:11869011@ibew2.org
SUMMARY:Macon Electric Cooperative Unit Meeting
DESCRIPTION:Contact:  \nLink for more information: http://ibew2.org/index.cfm?zone=/unionactive/view_calendar.cfm&calendarID=11869011&thisdate=01/17/2034&useCalSection=main
LOCATION:
URL:http://ibew2.org/index.cfm?zone=/unionactive/view_calendar.cfm&calendarID=11869011&thisdate=01/17/2034&useCalSection=main
DTSTART:20340117T213000Z
DTEND:20340117T223000Z
DTSTAMP:20240229T144305
TRIGGER:-PT60M
END:VEVENT
END:VCALENDAR
