BEGIN:VCALENDAR
VERSION:2.0
CALSCALE:GREGORIAN
PRODID:UnionActive
BEGIN:VEVENT
UID:11869000@ibew2.org
SUMMARY:Macon Electric Cooperative Unit Meeting
DESCRIPTION:Contact:  \nLink for more information: http://ibew2.org/index.cfm?zone=/unionactive/view_calendar.cfm&calendarID=11869000&thisdate=03/16/2032&useCalSection=main
LOCATION:
URL:http://ibew2.org/index.cfm?zone=/unionactive/view_calendar.cfm&calendarID=11869000&thisdate=03/16/2032&useCalSection=main
DTSTART:20320316T203000Z
DTEND:20320316T213000Z
DTSTAMP:20240229T143929
TRIGGER:-PT60M
END:VEVENT
END:VCALENDAR
