BEGIN:VCALENDAR
VERSION:2.0
CALSCALE:GREGORIAN
PRODID:UnionActive
BEGIN:VEVENT
UID:11868987@ibew2.org
SUMMARY:Macon Electric Cooperative Unit Meeting
DESCRIPTION:Contact:  \nLink for more information: http://ibew2.org/index.cfm?zone=/unionactive/view_calendar.cfm&calendarID=11868987&thisdate=01/15/2030&useCalSection=main
LOCATION:
URL:http://ibew2.org/index.cfm?zone=/unionactive/view_calendar.cfm&calendarID=11868987&thisdate=01/15/2030&useCalSection=main
DTSTART:20300115T213000Z
DTEND:20300115T223000Z
DTSTAMP:20240229T143602
TRIGGER:-PT60M
END:VEVENT
END:VCALENDAR
