BEGIN:VCALENDAR
VERSION:2.0
CALSCALE:GREGORIAN
PRODID:UnionActive
BEGIN:VEVENT
UID:11868977@ibew2.org
SUMMARY:Macon Electric Cooperative Unit Meeting
DESCRIPTION:Contact:  \nLink for more information: http://ibew2.org/index.cfm?zone=/unionactive/view_calendar.cfm&calendarID=11868977&thisdate=05/16/2028&useCalSection=main
LOCATION:
URL:http://ibew2.org/index.cfm?zone=/unionactive/view_calendar.cfm&calendarID=11868977&thisdate=05/16/2028&useCalSection=main
DTSTART:20280516T203000Z
DTEND:20280516T213000Z
DTSTAMP:20240229T143211
TRIGGER:-PT60M
END:VEVENT
END:VCALENDAR
