BEGIN:VCALENDAR
VERSION:2.0
CALSCALE:GREGORIAN
PRODID:UnionActive
BEGIN:VEVENT
UID:11868972@ibew2.org
SUMMARY:Macon Electric Cooperative Unit Meeting
DESCRIPTION:Contact:  \nLink for more information: http://ibew2.org/index.cfm?zone=/unionactive/view_calendar.cfm&calendarID=11868972&thisdate=07/20/2027&useCalSection=main
LOCATION:
URL:http://ibew2.org/index.cfm?zone=/unionactive/view_calendar.cfm&calendarID=11868972&thisdate=07/20/2027&useCalSection=main
DTSTART:20270720T203000Z
DTEND:20270720T213000Z
DTSTAMP:20240229T143023
TRIGGER:-PT60M
END:VEVENT
END:VCALENDAR
