BEGIN:VCALENDAR
VERSION:2.0
CALSCALE:GREGORIAN
PRODID:UnionActive
BEGIN:VEVENT
UID:11868969@ibew2.org
SUMMARY:Macon Electric Cooperative Unit Meeting
DESCRIPTION:Contact:  \nLink for more information: http://ibew2.org/index.cfm?zone=/unionactive/view_calendar.cfm&calendarID=11868969&thisdate=01/19/2027&useCalSection=main
LOCATION:
URL:http://ibew2.org/index.cfm?zone=/unionactive/view_calendar.cfm&calendarID=11868969&thisdate=01/19/2027&useCalSection=main
DTSTART:20270119T213000Z
DTEND:20270119T223000Z
DTSTAMP:20240229T143018
TRIGGER:-PT60M
END:VEVENT
END:VCALENDAR
