BEGIN:VCALENDAR
VERSION:2.0
CALSCALE:GREGORIAN
PRODID:UnionActive
BEGIN:VEVENT
UID:11868963@ibew2.org
SUMMARY:Macon Electric Cooperative Unit Meeting
DESCRIPTION:Contact:  \nLink for more information: http://ibew2.org/index.cfm?zone=/unionactive/view_calendar.cfm&calendarID=11868963&thisdate=01/20/2026&useCalSection=main
LOCATION:
URL:http://ibew2.org/index.cfm?zone=/unionactive/view_calendar.cfm&calendarID=11868963&thisdate=01/20/2026&useCalSection=main
DTSTART:20260120T213000Z
DTEND:20260120T223000Z
DTSTAMP:20240229T142719
TRIGGER:-PT60M
END:VEVENT
END:VCALENDAR
