BEGIN:VCALENDAR
VERSION:2.0
CALSCALE:GREGORIAN
PRODID:UnionActive
BEGIN:VEVENT
UID:11868961@ibew2.org
SUMMARY:Macon Electric Cooperative Unit Meeting
DESCRIPTION:Contact:  \nLink for more information: http://ibew2.org/index.cfm?zone=/unionactive/view_calendar.cfm&calendarID=11868961&thisdate=09/16/2025&useCalSection=main
LOCATION:
URL:http://ibew2.org/index.cfm?zone=/unionactive/view_calendar.cfm&calendarID=11868961&thisdate=09/16/2025&useCalSection=main
DTSTART:20250916T203000Z
DTEND:20250916T213000Z
DTSTAMP:20240229T142404
TRIGGER:-PT60M
END:VEVENT
END:VCALENDAR
