BEGIN:VCALENDAR
VERSION:2.0
CALSCALE:GREGORIAN
PRODID:UnionActive
BEGIN:VEVENT
UID:11868938@ibew2.org
SUMMARY:Macon Electric Cooperative Unit Meeting
DESCRIPTION:Contact:  \nLink for more information: http://ibew2.org/index.cfm?zone=/unionactive/view_calendar.cfm&calendarID=11868938&thisdate=11/16/2021&useCalSection=main
LOCATION:
URL:http://ibew2.org/index.cfm?zone=/unionactive/view_calendar.cfm&calendarID=11868938&thisdate=11/16/2021&useCalSection=main
DTSTART:20211116T213000Z
DTEND:20211116T223000Z
DTSTAMP:20240229T142936
TRIGGER:-PT60M
END:VEVENT
END:VCALENDAR
