BEGIN:VCALENDAR
VERSION:2.0
CALSCALE:GREGORIAN
PRODID:UnionActive
BEGIN:VEVENT
UID:11840001@ibew2.org
SUMMARY:CenturyLink Unit Meeting
DESCRIPTION:Contact:  \nLink for more information: http://ibew2.org/index.cfm?zone=/unionactive/view_calendar.cfm&calendarID=11840001&thisdate=06/30/2044&useCalSection=main
LOCATION:
URL:http://ibew2.org/index.cfm?zone=/unionactive/view_calendar.cfm&calendarID=11840001&thisdate=06/30/2044&useCalSection=main
DTSTART:20440630T223000Z
DTEND:20440630T223000Z
DTSTAMP:20240229T150247
TRIGGER:-PT60M
END:VEVENT
END:VCALENDAR
