BEGIN:VCALENDAR
VERSION:2.0
CALSCALE:GREGORIAN
PRODID:UnionActive
BEGIN:VEVENT
UID:11839962@ibew2.org
SUMMARY:CenturyLink Unit Meeting
DESCRIPTION:Contact:  \nLink for more information: http://ibew2.org/index.cfm?zone=/unionactive/view_calendar.cfm&calendarID=11839962&thisdate=12/31/2037&useCalSection=main
LOCATION:
URL:http://ibew2.org/index.cfm?zone=/unionactive/view_calendar.cfm&calendarID=11839962&thisdate=12/31/2037&useCalSection=main
DTSTART:20371231T233000Z
DTEND:20371231T233000Z
DTSTAMP:20240229T145008
TRIGGER:-PT60M
END:VEVENT
END:VCALENDAR
