BEGIN:VCALENDAR
VERSION:2.0
CALSCALE:GREGORIAN
PRODID:UnionActive
BEGIN:VEVENT
UID:11839908@ibew2.org
SUMMARY:CenturyLink Unit Meeting
DESCRIPTION:Contact:  \nLink for more information: http://ibew2.org/index.cfm?zone=/unionactive/view_calendar.cfm&calendarID=11839908&thisdate=12/28/2028&useCalSection=main
LOCATION:
URL:http://ibew2.org/index.cfm?zone=/unionactive/view_calendar.cfm&calendarID=11839908&thisdate=12/28/2028&useCalSection=main
DTSTART:20281228T233000Z
DTEND:20281228T233000Z
DTSTAMP:20240229T143449
TRIGGER:-PT60M
END:VEVENT
END:VCALENDAR
