BEGIN:VCALENDAR
VERSION:2.0
CALSCALE:GREGORIAN
PRODID:UnionActive
BEGIN:VEVENT
UID:11839903@ibew2.org
SUMMARY:CenturyLink Unit Meeting
DESCRIPTION:Contact:  \nLink for more information: http://ibew2.org/index.cfm?zone=/unionactive/view_calendar.cfm&calendarID=11839903&thisdate=02/24/2028&useCalSection=main
LOCATION:
URL:http://ibew2.org/index.cfm?zone=/unionactive/view_calendar.cfm&calendarID=11839903&thisdate=02/24/2028&useCalSection=main
DTSTART:20280224T233000Z
DTEND:20280224T233000Z
DTSTAMP:20240229T143448
TRIGGER:-PT60M
END:VEVENT
END:VCALENDAR
