BEGIN:VCALENDAR
VERSION:2.0
CALSCALE:GREGORIAN
PRODID:UnionActive
BEGIN:VEVENT
UID:11839902@ibew2.org
SUMMARY:CenturyLink Unit Meeting
DESCRIPTION:Contact:  \nLink for more information: http://ibew2.org/index.cfm?zone=/unionactive/view_calendar.cfm&calendarID=11839902&thisdate=12/30/2027&useCalSection=main
LOCATION:
URL:http://ibew2.org/index.cfm?zone=/unionactive/view_calendar.cfm&calendarID=11839902&thisdate=12/30/2027&useCalSection=main
DTSTART:20271230T233000Z
DTEND:20271230T233000Z
DTSTAMP:20240229T142953
TRIGGER:-PT60M
END:VEVENT
END:VCALENDAR
