BEGIN:VCALENDAR
VERSION:2.0
CALSCALE:GREGORIAN
PRODID:UnionActive
BEGIN:VEVENT
UID:11839884@ibew2.org
SUMMARY:CenturyLink Unit Meeting
DESCRIPTION:Contact:  \nLink for more information: http://ibew2.org/index.cfm?zone=/unionactive/view_calendar.cfm&calendarID=11839884&thisdate=12/26/2024&useCalSection=main
LOCATION:
URL:http://ibew2.org/index.cfm?zone=/unionactive/view_calendar.cfm&calendarID=11839884&thisdate=12/26/2024&useCalSection=main
DTSTART:20241226T233000Z
DTEND:20241226T233000Z
DTSTAMP:20240229T142234
TRIGGER:-PT60M
END:VEVENT
END:VCALENDAR
