BEGIN:VCALENDAR
VERSION:2.0
CALSCALE:GREGORIAN
PRODID:UnionActive
BEGIN:VEVENT
UID:11839876@ibew2.org
SUMMARY:CenturyLink Unit Meeting
DESCRIPTION:Contact:  \nLink for more information: http://ibew2.org/index.cfm?zone=/unionactive/view_calendar.cfm&calendarID=11839876&thisdate=08/31/2023&useCalSection=main
LOCATION:
URL:http://ibew2.org/index.cfm?zone=/unionactive/view_calendar.cfm&calendarID=11839876&thisdate=08/31/2023&useCalSection=main
DTSTART:20230831T223000Z
DTEND:20230831T223000Z
DTSTAMP:20240229T142313
TRIGGER:-PT60M
END:VEVENT
END:VCALENDAR
