BEGIN:VCALENDAR
VERSION:2.0
CALSCALE:GREGORIAN
PRODID:UnionActive
BEGIN:VEVENT
UID:11839872@ibew2.org
SUMMARY:CenturyLink Unit Meeting
DESCRIPTION:Contact:  \nLink for more information: http://ibew2.org/index.cfm?zone=/unionactive/view_calendar.cfm&calendarID=11839872&thisdate=12/29/2022&useCalSection=main
LOCATION:
URL:http://ibew2.org/index.cfm?zone=/unionactive/view_calendar.cfm&calendarID=11839872&thisdate=12/29/2022&useCalSection=main
DTSTART:20221229T233000Z
DTEND:20221229T233000Z
DTSTAMP:20240229T142646
TRIGGER:-PT60M
END:VEVENT
END:VCALENDAR
