BEGIN:VCALENDAR
VERSION:2.0
CALSCALE:GREGORIAN
PRODID:UnionActive
BEGIN:VEVENT
UID:11839863@ibew2.org
SUMMARY:CenturyLink Unit Meeting
DESCRIPTION:Contact:  \nLink for more information: http://ibew2.org/index.cfm?zone=/unionactive/view_calendar.cfm&calendarID=11839863&thisdate=06/24/2021&useCalSection=main
LOCATION:
URL:http://ibew2.org/index.cfm?zone=/unionactive/view_calendar.cfm&calendarID=11839863&thisdate=06/24/2021&useCalSection=main
DTSTART:20210624T223000Z
DTEND:20210624T223000Z
DTSTAMP:20240229T143142
TRIGGER:-PT60M
END:VEVENT
END:VCALENDAR
