BEGIN:VCALENDAR
VERSION:2.0
CALSCALE:GREGORIAN
PRODID:UnionActive
BEGIN:VEVENT
UID:11839822@ibew2.org
SUMMARY:Executive Board Meeting
DESCRIPTION:Contact:  \nLink for more information: http://ibew2.org/index.cfm?zone=/unionactive/view_calendar.cfm&calendarID=11839822&thisdate=12/08/2042&useCalSection=main
LOCATION:
URL:http://ibew2.org/index.cfm?zone=/unionactive/view_calendar.cfm&calendarID=11839822&thisdate=12/08/2042&useCalSection=main
DTSTART:20421208T220000Z
DTEND:20421208T220000Z
DTSTAMP:20240229T145946
TRIGGER:-PT60M
END:VEVENT
END:VCALENDAR
