BEGIN:VCALENDAR
VERSION:2.0
CALSCALE:GREGORIAN
PRODID:UnionActive
BEGIN:VEVENT
UID:11839789@ibew2.org
SUMMARY:Executive Board Meeting
DESCRIPTION:Contact:  \nLink for more information: http://ibew2.org/index.cfm?zone=/unionactive/view_calendar.cfm&calendarID=11839789&thisdate=03/12/2040&useCalSection=main
LOCATION:
URL:http://ibew2.org/index.cfm?zone=/unionactive/view_calendar.cfm&calendarID=11839789&thisdate=03/12/2040&useCalSection=main
DTSTART:20400312T210000Z
DTEND:20400312T210000Z
DTSTAMP:20240229T145538
TRIGGER:-PT60M
END:VEVENT
END:VCALENDAR
