BEGIN:VCALENDAR
VERSION:2.0
CALSCALE:GREGORIAN
PRODID:UnionActive
BEGIN:VEVENT
UID:11839780@ibew2.org
SUMMARY:Executive Board Meeting
DESCRIPTION:Contact:  \nLink for more information: http://ibew2.org/index.cfm?zone=/unionactive/view_calendar.cfm&calendarID=11839780&thisdate=06/13/2039&useCalSection=main
LOCATION:
URL:http://ibew2.org/index.cfm?zone=/unionactive/view_calendar.cfm&calendarID=11839780&thisdate=06/13/2039&useCalSection=main
DTSTART:20390613T210000Z
DTEND:20390613T210000Z
DTSTAMP:20240229T145323
TRIGGER:-PT60M
END:VEVENT
END:VCALENDAR
