BEGIN:VCALENDAR
VERSION:2.0
CALSCALE:GREGORIAN
PRODID:UnionActive
BEGIN:VEVENT
UID:11839778@ibew2.org
SUMMARY:Executive Board Meeting
DESCRIPTION:Contact:  \nLink for more information: http://ibew2.org/index.cfm?zone=/unionactive/view_calendar.cfm&calendarID=11839778&thisdate=04/11/2039&useCalSection=main
LOCATION:
URL:http://ibew2.org/index.cfm?zone=/unionactive/view_calendar.cfm&calendarID=11839778&thisdate=04/11/2039&useCalSection=main
DTSTART:20390411T210000Z
DTEND:20390411T210000Z
DTSTAMP:20240229T145409
TRIGGER:-PT60M
END:VEVENT
END:VCALENDAR
