BEGIN:VCALENDAR
VERSION:2.0
CALSCALE:GREGORIAN
PRODID:UnionActive
BEGIN:VEVENT
UID:11839772@ibew2.org
SUMMARY:Executive Board Meeting
DESCRIPTION:Contact:  \nLink for more information: http://ibew2.org/index.cfm?zone=/unionactive/view_calendar.cfm&calendarID=11839772&thisdate=10/11/2038&useCalSection=main
LOCATION:
URL:http://ibew2.org/index.cfm?zone=/unionactive/view_calendar.cfm&calendarID=11839772&thisdate=10/11/2038&useCalSection=main
DTSTART:20381011T210000Z
DTEND:20381011T210000Z
DTSTAMP:20240229T145127
TRIGGER:-PT60M
END:VEVENT
END:VCALENDAR
