BEGIN:VCALENDAR
VERSION:2.0
CALSCALE:GREGORIAN
PRODID:UnionActive
BEGIN:VEVENT
UID:11839768@ibew2.org
SUMMARY:Executive Board Meeting
DESCRIPTION:Contact:  \nLink for more information: http://ibew2.org/index.cfm?zone=/unionactive/view_calendar.cfm&calendarID=11839768&thisdate=06/14/2038&useCalSection=main
LOCATION:
URL:http://ibew2.org/index.cfm?zone=/unionactive/view_calendar.cfm&calendarID=11839768&thisdate=06/14/2038&useCalSection=main
DTSTART:20380614T210000Z
DTEND:20380614T210000Z
DTSTAMP:20240229T145135
TRIGGER:-PT60M
END:VEVENT
END:VCALENDAR
