BEGIN:VCALENDAR
VERSION:2.0
CALSCALE:GREGORIAN
PRODID:UnionActive
BEGIN:VEVENT
UID:11839751@ibew2.org
SUMMARY:Executive Board Meeting
DESCRIPTION:Contact:  \nLink for more information: http://ibew2.org/index.cfm?zone=/unionactive/view_calendar.cfm&calendarID=11839751&thisdate=01/12/2037&useCalSection=main
LOCATION:
URL:http://ibew2.org/index.cfm?zone=/unionactive/view_calendar.cfm&calendarID=11839751&thisdate=01/12/2037&useCalSection=main
DTSTART:20370112T220000Z
DTEND:20370112T220000Z
DTSTAMP:20240229T144932
TRIGGER:-PT60M
END:VEVENT
END:VCALENDAR
