BEGIN:VCALENDAR
VERSION:2.0
CALSCALE:GREGORIAN
PRODID:UnionActive
BEGIN:VEVENT
UID:11839746@ibew2.org
SUMMARY:Executive Board Meeting
DESCRIPTION:Contact:  \nLink for more information: http://ibew2.org/index.cfm?zone=/unionactive/view_calendar.cfm&calendarID=11839746&thisdate=08/11/2036&useCalSection=main
LOCATION:
URL:http://ibew2.org/index.cfm?zone=/unionactive/view_calendar.cfm&calendarID=11839746&thisdate=08/11/2036&useCalSection=main
DTSTART:20360811T210000Z
DTEND:20360811T210000Z
DTSTAMP:20240229T144738
TRIGGER:-PT60M
END:VEVENT
END:VCALENDAR
