BEGIN:VCALENDAR
VERSION:2.0
CALSCALE:GREGORIAN
PRODID:UnionActive
BEGIN:VEVENT
UID:11839735@ibew2.org
SUMMARY:Executive Board Meeting
DESCRIPTION:Contact:  \nLink for more information: http://ibew2.org/index.cfm?zone=/unionactive/view_calendar.cfm&calendarID=11839735&thisdate=09/10/2035&useCalSection=main
LOCATION:
URL:http://ibew2.org/index.cfm?zone=/unionactive/view_calendar.cfm&calendarID=11839735&thisdate=09/10/2035&useCalSection=main
DTSTART:20350910T210000Z
DTEND:20350910T210000Z
DTSTAMP:20240229T144506
TRIGGER:-PT60M
END:VEVENT
END:VCALENDAR
