BEGIN:VCALENDAR
VERSION:2.0
CALSCALE:GREGORIAN
PRODID:UnionActive
BEGIN:VEVENT
UID:11839696@ibew2.org
SUMMARY:Executive Board Meeting
DESCRIPTION:Contact:  \nLink for more information: http://ibew2.org/index.cfm?zone=/unionactive/view_calendar.cfm&calendarID=11839696&thisdate=06/14/2032&useCalSection=main
LOCATION:
URL:http://ibew2.org/index.cfm?zone=/unionactive/view_calendar.cfm&calendarID=11839696&thisdate=06/14/2032&useCalSection=main
DTSTART:20320614T210000Z
DTEND:20320614T210000Z
DTSTAMP:20240229T143900
TRIGGER:-PT60M
END:VEVENT
END:VCALENDAR
