BEGIN:VCALENDAR
VERSION:2.0
CALSCALE:GREGORIAN
PRODID:UnionActive
BEGIN:VEVENT
UID:11839659@ibew2.org
SUMMARY:Executive Board Meeting
DESCRIPTION:Contact:  \nLink for more information: http://ibew2.org/index.cfm?zone=/unionactive/view_calendar.cfm&calendarID=11839659&thisdate=05/14/2029&useCalSection=main
LOCATION:
URL:http://ibew2.org/index.cfm?zone=/unionactive/view_calendar.cfm&calendarID=11839659&thisdate=05/14/2029&useCalSection=main
DTSTART:20290514T210000Z
DTEND:20290514T210000Z
DTSTAMP:20240229T143416
TRIGGER:-PT60M
END:VEVENT
END:VCALENDAR
