BEGIN:VCALENDAR
VERSION:2.0
CALSCALE:GREGORIAN
PRODID:UnionActive
BEGIN:VEVENT
UID:11839649@ibew2.org
SUMMARY:Executive Board Meeting
DESCRIPTION:Contact:  \nLink for more information: http://ibew2.org/index.cfm?zone=/unionactive/view_calendar.cfm&calendarID=11839649&thisdate=07/10/2028&useCalSection=main
LOCATION:
URL:http://ibew2.org/index.cfm?zone=/unionactive/view_calendar.cfm&calendarID=11839649&thisdate=07/10/2028&useCalSection=main
DTSTART:20280710T210000Z
DTEND:20280710T210000Z
DTSTAMP:20240229T143406
TRIGGER:-PT60M
END:VEVENT
END:VCALENDAR
