BEGIN:VCALENDAR
VERSION:2.0
CALSCALE:GREGORIAN
PRODID:UnionActive
BEGIN:VEVENT
UID:11839647@ibew2.org
SUMMARY:Executive Board Meeting
DESCRIPTION:Contact:  \nLink for more information: http://ibew2.org/index.cfm?zone=/unionactive/view_calendar.cfm&calendarID=11839647&thisdate=05/08/2028&useCalSection=main
LOCATION:
URL:http://ibew2.org/index.cfm?zone=/unionactive/view_calendar.cfm&calendarID=11839647&thisdate=05/08/2028&useCalSection=main
DTSTART:20280508T210000Z
DTEND:20280508T210000Z
DTSTAMP:20240229T143407
TRIGGER:-PT60M
END:VEVENT
END:VCALENDAR
