BEGIN:VCALENDAR
VERSION:2.0
CALSCALE:GREGORIAN
PRODID:UnionActive
BEGIN:VEVENT
UID:11839641@ibew2.org
SUMMARY:Executive Board Meeting
DESCRIPTION:Contact:  \nLink for more information: http://ibew2.org/index.cfm?zone=/unionactive/view_calendar.cfm&calendarID=11839641&thisdate=11/08/2027&useCalSection=main
LOCATION:
URL:http://ibew2.org/index.cfm?zone=/unionactive/view_calendar.cfm&calendarID=11839641&thisdate=11/08/2027&useCalSection=main
DTSTART:20271108T220000Z
DTEND:20271108T220000Z
DTSTAMP:20240229T143204
TRIGGER:-PT60M
END:VEVENT
END:VCALENDAR
